BEGIN:VCALENDAR
VERSION:2.0
PRODID:-//UAW LOCAL 718 - ECPv6.15.20//NONSGML v1.0//EN
CALSCALE:GREGORIAN
METHOD:PUBLISH
X-WR-CALNAME:UAW LOCAL 718
X-ORIGINAL-URL:https://uaw718.org
X-WR-CALDESC:Events for UAW LOCAL 718
REFRESH-INTERVAL;VALUE=DURATION:PT1H
X-Robots-Tag:noindex
X-PUBLISHED-TTL:PT1H
BEGIN:VTIMEZONE
TZID:America/Chicago
BEGIN:DAYLIGHT
TZOFFSETFROM:-0600
TZOFFSETTO:-0500
TZNAME:CDT
DTSTART:20230312T080000
END:DAYLIGHT
BEGIN:STANDARD
TZOFFSETFROM:-0500
TZOFFSETTO:-0600
TZNAME:CST
DTSTART:20231105T070000
END:STANDARD
BEGIN:DAYLIGHT
TZOFFSETFROM:-0600
TZOFFSETTO:-0500
TZNAME:CDT
DTSTART:20240310T080000
END:DAYLIGHT
BEGIN:STANDARD
TZOFFSETFROM:-0500
TZOFFSETTO:-0600
TZNAME:CST
DTSTART:20241103T070000
END:STANDARD
BEGIN:DAYLIGHT
TZOFFSETFROM:-0600
TZOFFSETTO:-0500
TZNAME:CDT
DTSTART:20250309T080000
END:DAYLIGHT
BEGIN:STANDARD
TZOFFSETFROM:-0500
TZOFFSETTO:-0600
TZNAME:CST
DTSTART:20251102T070000
END:STANDARD
BEGIN:DAYLIGHT
TZOFFSETFROM:-0600
TZOFFSETTO:-0500
TZNAME:CDT
DTSTART:20260308T080000
END:DAYLIGHT
BEGIN:STANDARD
TZOFFSETFROM:-0500
TZOFFSETTO:-0600
TZNAME:CST
DTSTART:20261101T070000
END:STANDARD
END:VTIMEZONE
BEGIN:VTIMEZONE
TZID:UTC
BEGIN:STANDARD
TZOFFSETFROM:+0000
TZOFFSETTO:+0000
TZNAME:UTC
DTSTART:20230101T000000
END:STANDARD
END:VTIMEZONE
BEGIN:VEVENT
DTSTART;TZID=America/Chicago:20250901T083000
DTEND;TZID=America/Chicago:20250901T120000
DTSTAMP:20260423T162245
CREATED:20250827T205701Z
LAST-MODIFIED:20250827T205701Z
UID:1007-1756715400-1756728000@uaw718.org
SUMMARY:Labor Day Parade
DESCRIPTION:Local 718 will be walking in the parade on Monday\, September 1\, 2025. We\ninvite all Local 718 Brothers/Sisters/Retirees & family to walk with us. \nUnder the current circumstances\, we will not be purchasing t-shirts and \nwe ask that you wear previous years t-shirts or red for solidarity. If \nyou would like to donate candy to throw that would be great\, otherwise \nwe will have a limited amount. \n\nWhen: Monday\, September 1\, 2025\nTime: 8:30-9am\, we will start walking at 10:00am\nWhere: 1130 5th Ave\, Rockford\, IL (between 7th & 8th Streets)\n\nWe hope to see you all there.
URL:https://uaw718.org/event/labor-day-parade/
LOCATION:Labor Day\, 1130 5th Ave.\, Rockford\, IL\, 61104\, United States
END:VEVENT
BEGIN:VEVENT
DTSTART;TZID=America/Chicago:20250126T110000
DTEND;TZID=America/Chicago:20250126T120000
DTSTAMP:20260423T162245
CREATED:20250104T020237Z
LAST-MODIFIED:20250104T020237Z
UID:929-1737889200-1737892800@uaw718.org
SUMMARY:Membership Meeting
DESCRIPTION:Come see what is going on in the Local and Company.
URL:https://uaw718.org/event/membership-meeting-10/
LOCATION:Union Hall\, 212 S. 1st Street\, Rockford\, IL\, 61104\, United States
END:VEVENT
BEGIN:VEVENT
DTSTART;TZID=America/Chicago:20250108T120000
DTEND;TZID=America/Chicago:20250108T170000
DTSTAMP:20260423T162245
CREATED:20250106T233649Z
LAST-MODIFIED:20250106T233649Z
UID:953-1736337600-1736355600@uaw718.org
SUMMARY:Meeting/Vote
DESCRIPTION:We will be holding a meeting/vote on January 8\, 2025 for all Active members that are still in the plant. Our International UAW Rep Ted Dever will be at the Hall to discuss what is going on. This is for active members only\, not members that are out on lay off. \nTimes: 2nd & 3rd Shift – 12:00pm. 1st Shift 5:00pm (3rd shift has the option to attend 12:00pm or 5:00pm meeting)
URL:https://uaw718.org/event/meeting-vote/
LOCATION:Union Hall\, 212 S. 1st Street\, Rockford\, IL\, 61104\, United States
END:VEVENT
BEGIN:VEVENT
DTSTART;TZID=UTC:20241224T000000
DTEND;TZID=UTC:20250101T235959
DTSTAMP:20260423T162245
CREATED:20240306T090612Z
LAST-MODIFIED:20240306T090725Z
UID:191-1734998400-1735775999@uaw718.org
SUMMARY:Christmas
DESCRIPTION:Paid Holidays \nDecember 28th & 29th are unpaid days
URL:https://uaw718.org/event/christmas/
LOCATION:IL
END:VEVENT
BEGIN:VEVENT
DTSTART;TZID=UTC:20241129T000000
DTEND;TZID=UTC:20241129T235959
DTSTAMP:20260423T162245
CREATED:20240306T090507Z
LAST-MODIFIED:20240306T090507Z
UID:189-1732838400-1732924799@uaw718.org
SUMMARY:Day after Thanksgiving
DESCRIPTION:Paid Holiday
URL:https://uaw718.org/event/day-after-thanksgiving/
LOCATION:IL
END:VEVENT
BEGIN:VEVENT
DTSTART;TZID=UTC:20241128T000000
DTEND;TZID=UTC:20241128T235959
DTSTAMP:20260423T162245
CREATED:20240306T090435Z
LAST-MODIFIED:20240306T090435Z
UID:187-1732752000-1732838399@uaw718.org
SUMMARY:Thanksgiving Day
DESCRIPTION:Paid Holiday
URL:https://uaw718.org/event/thanksgiving-day/
LOCATION:IL
END:VEVENT
BEGIN:VEVENT
DTSTART;TZID=America/Chicago:20241124T110000
DTEND;TZID=America/Chicago:20241124T120000
DTSTAMP:20260423T162245
CREATED:20241019T234201Z
LAST-MODIFIED:20241120T002645Z
UID:890-1732446000-1732449600@uaw718.org
SUMMARY:Membership Meeting
DESCRIPTION:Come see whats going on in your Local and workplace. \nWe will be discussing Accurides recent bankruptcy filing and what steps are being taken to keep Gunite open.\nInternational UAW Rep Ted Dever will be present to answer questions and explain our situation.
URL:https://uaw718.org/event/membership-meeting-9/
LOCATION:Union Hall\, 212 S. 1st Street\, Rockford\, IL\, 61104\, United States
END:VEVENT
BEGIN:VEVENT
DTSTART;TZID=America/Chicago:20241027T110000
DTEND;TZID=America/Chicago:20241027T120000
DTSTAMP:20260423T162245
CREATED:20241015T233746Z
LAST-MODIFIED:20241018T193839Z
UID:816-1730026800-1730030400@uaw718.org
SUMMARY:Membership Meeting
DESCRIPTION:Come see whats going on in your Local and workplace.\n\nThis will be a very important meeting to discuss the recent bankruptcy filing with Accuride Corp. We will be\nanswering all questions regarding the future of our plant or concerns you may have.\n 
URL:https://uaw718.org/event/membership-meeting-8/
LOCATION:Union Hall\, 212 S. 1st Street\, Rockford\, IL\, 61104\, United States
END:VEVENT
BEGIN:VEVENT
DTSTART;TZID=UTC:20240903T000000
DTEND;TZID=UTC:20240903T235959
DTSTAMP:20260423T162245
CREATED:20240306T090359Z
LAST-MODIFIED:20240306T090359Z
UID:185-1725321600-1725407999@uaw718.org
SUMMARY:Walter P. Reuther Day
DESCRIPTION:Paid Holiday
URL:https://uaw718.org/event/walter-p-reuther-day/
LOCATION:IL
END:VEVENT
BEGIN:VEVENT
DTSTART;TZID=UTC:20240902T000000
DTEND;TZID=UTC:20240902T235959
DTSTAMP:20260423T162245
CREATED:20240306T090252Z
LAST-MODIFIED:20240306T090252Z
UID:183-1725235200-1725321599@uaw718.org
SUMMARY:Labor Day
DESCRIPTION:Paid Holiday
URL:https://uaw718.org/event/labor-day/
LOCATION:IL
END:VEVENT
BEGIN:VEVENT
DTSTART;TZID=America/Chicago:20240825T110000
DTEND;TZID=America/Chicago:20240825T120000
DTSTAMP:20260423T162245
CREATED:20240625T002221Z
LAST-MODIFIED:20240625T002221Z
UID:766-1724583600-1724587200@uaw718.org
SUMMARY:Membership Meeting
DESCRIPTION:All Local 718 Members are encouraged to attend. Come see what is going on in the Local & Plant. Learn old business and new business along with the state of the business. This allows all members to have a voice.
URL:https://uaw718.org/event/membership-meeting-7/
LOCATION:Union Hall\, 212 S. 1st Street\, Rockford\, IL\, 61104\, United States
END:VEVENT
BEGIN:VEVENT
DTSTART;TZID=America/Chicago:20240728T110000
DTEND;TZID=America/Chicago:20240728T120000
DTSTAMP:20260423T162245
CREATED:20240625T002133Z
LAST-MODIFIED:20240718T022330Z
UID:764-1722164400-1722168000@uaw718.org
SUMMARY:Membership Meeting
DESCRIPTION:All Local 718 Members are encouraged to attend. Come see what is going on in the Local & Plant. Learn old business and new business along with the state of the business. This allows all members to have a voice. \nWe will be discussing the Labor Day Parade and picnic.
URL:https://uaw718.org/event/membership-meeting-6/
LOCATION:Union Hall\, 212 S. 1st Street\, Rockford\, IL\, 61104\, United States
END:VEVENT
BEGIN:VEVENT
DTSTART;TZID=UTC:20240704T000000
DTEND;TZID=UTC:20240704T235959
DTSTAMP:20260423T162245
CREATED:20240306T090217Z
LAST-MODIFIED:20240306T090217Z
UID:181-1720051200-1720137599@uaw718.org
SUMMARY:Independence Day
DESCRIPTION:Paid Holiday
URL:https://uaw718.org/event/independence-day/
LOCATION:IL
END:VEVENT
BEGIN:VEVENT
DTSTART;TZID=America/Chicago:20240630T110000
DTEND;TZID=America/Chicago:20240630T120000
DTSTAMP:20260423T162245
CREATED:20240616T200947Z
LAST-MODIFIED:20240616T200947Z
UID:761-1719745200-1719748800@uaw718.org
SUMMARY:Membership Meeting
DESCRIPTION:All Local 718 Members are encouraged to attend. Come see what is going on in the Local & Plant. Learn old business and new business along with the state of the business. This allows all members to have a voice.
URL:https://uaw718.org/event/membership-meeting-5/
LOCATION:Union Hall\, 212 S. 1st Street\, Rockford\, IL\, 61104\, United States
END:VEVENT
BEGIN:VEVENT
DTSTART;TZID=UTC:20240527T000000
DTEND;TZID=UTC:20240527T235959
DTSTAMP:20260423T162245
CREATED:20240306T090146Z
LAST-MODIFIED:20240306T090146Z
UID:179-1716768000-1716854399@uaw718.org
SUMMARY:Memorial Day
DESCRIPTION:Paid Holiday
URL:https://uaw718.org/event/memorial-day/
LOCATION:IL
END:VEVENT
BEGIN:VEVENT
DTSTART;TZID=America/Chicago:20240526T110000
DTEND;TZID=America/Chicago:20240526T120000
DTSTAMP:20260423T162245
CREATED:20240523T020251Z
LAST-MODIFIED:20240523T020251Z
UID:749-1716721200-1716724800@uaw718.org
SUMMARY:Membership Meeting
DESCRIPTION:All Local 718 Members are encouraged to attend. Come see what is going on in the Local & Plant. Learn old business and new business along with the state of the business. This allows all members to have a voice.
URL:https://uaw718.org/event/membership-meeting-4/
LOCATION:Union Hall\, 212 S. 1st Street\, Rockford\, IL\, 61104\, United States
END:VEVENT
BEGIN:VEVENT
DTSTART;TZID=UTC:20240519T110000
DTEND;TZID=UTC:20240519T120000
DTSTAMP:20260423T162245
CREATED:20240324T042705Z
LAST-MODIFIED:20240324T042705Z
UID:719-1716116400-1716120000@uaw718.org
SUMMARY:Membership Meeting
DESCRIPTION:All Local 718 Members are encouraged to attend. Come see what is going on in the Local & Plant. Learn old business and new business along with the state of the business. This allows all members to have a voice. \n*This meeting is subject to change
URL:https://uaw718.org/event/membership-meeting-3/
LOCATION:Union Hall\, 212 S. 1st Street\, Rockford\, IL\, 61104\, United States
END:VEVENT
BEGIN:VEVENT
DTSTART;TZID=UTC:20240428T110000
DTEND;TZID=UTC:20240428T120000
DTSTAMP:20260423T162245
CREATED:20240308T081403Z
LAST-MODIFIED:20240310T053253Z
UID:208-1714302000-1714305600@uaw718.org
SUMMARY:Membership Meeting
DESCRIPTION:All Local 718 Members are encouraged to attend. Come see what is going on in the Local & Plant. Learn old business and new business along with the state of the business. This allows all members to have a voice. \n*This meeting is subject to change
URL:https://uaw718.org/event/membership-meeting-2/
LOCATION:Union Hall\, 212 S. 1st Street\, Rockford\, IL\, 61104\, United States
END:VEVENT
BEGIN:VEVENT
DTSTART;TZID=UTC:20240329T000000
DTEND;TZID=UTC:20240329T235959
DTSTAMP:20260423T162245
CREATED:20240306T090106Z
LAST-MODIFIED:20240306T090106Z
UID:177-1711670400-1711756799@uaw718.org
SUMMARY:Good Friday
DESCRIPTION:Paid Holiday
URL:https://uaw718.org/event/good-friday/
LOCATION:IL
END:VEVENT
BEGIN:VEVENT
DTSTART;TZID=UTC:20240324T110000
DTEND;TZID=UTC:20240324T120000
DTSTAMP:20260423T162245
CREATED:20240306T082157Z
LAST-MODIFIED:20240309T041120Z
UID:164-1711278000-1711281600@uaw718.org
SUMMARY:Membership Meeting
DESCRIPTION:All Local 718 Members are encouraged to attend. Come see what is going on in the Local & Plant. Learn old business and new business along with the state of the business. This allows all members to have a voice. \n 
URL:https://uaw718.org/event/membership-meeting/
LOCATION:Union Hall\, 212 S. 1st Street\, Rockford\, IL\, 61104\, United States
END:VEVENT
END:VCALENDAR