BEGIN:VCALENDAR
VERSION:2.0
PRODID:-//UAW LOCAL 718 - ECPv6.15.20//NONSGML v1.0//EN
CALSCALE:GREGORIAN
METHOD:PUBLISH
X-WR-CALNAME:UAW LOCAL 718
X-ORIGINAL-URL:https://uaw718.org
X-WR-CALDESC:Events for UAW LOCAL 718
REFRESH-INTERVAL;VALUE=DURATION:PT1H
X-Robots-Tag:noindex
X-PUBLISHED-TTL:PT1H
BEGIN:VTIMEZONE
TZID:UTC
BEGIN:STANDARD
TZOFFSETFROM:+0000
TZOFFSETTO:+0000
TZNAME:UTC
DTSTART:20230101T000000
END:STANDARD
END:VTIMEZONE
BEGIN:VEVENT
DTSTART;TZID=UTC:20241224T000000
DTEND;TZID=UTC:20250101T235959
DTSTAMP:20260424T114010
CREATED:20240306T090612Z
LAST-MODIFIED:20240306T090725Z
UID:191-1734998400-1735775999@uaw718.org
SUMMARY:Christmas
DESCRIPTION:Paid Holidays \nDecember 28th & 29th are unpaid days
URL:https://uaw718.org/event/christmas/
LOCATION:IL
END:VEVENT
END:VCALENDAR